BEGIN:VCALENDAR
VERSION:2.0
PRODID:-//Tukios.com/
BEGIN:VEVENT
UID:ed562cec-534f-4bb4-8787-bcdb98d01549@www.joyners.net
DTSTAMP:20260421T000617Z
DTSTART:20260422T150000Z
DTEND:20260422T160000Z
SUMMARY:Graveside Service
DESCRIPTION:
URL:https://www.joyners.net/obituaries/carolyn-lamm
LOCATION:Maplewood Cemetery 400 College St NE  Wilson NC 27893
GEO:35.7336219;-77.9075389
END:VEVENT
END:VCALENDAR