BEGIN:VCALENDAR
VERSION:2.0
PRODID:-//Tukios.com/
BEGIN:VEVENT
UID:f829b50e-75d4-420d-b4fd-de81d156497a@www.joyners.net
DTSTAMP:20260420T180058Z
DTSTART:20260423T140000Z
DTEND:20260423T144500Z
SUMMARY:Visitation
DESCRIPTION:
URL:https://www.joyners.net/obituaries/dorothy-dottie-andersen
LOCATION:Grace Baptist Church 202 Kincaid Avenue North  Wilson NC 27893
GEO:35.7426232;-77.919736
END:VEVENT
END:VCALENDAR