BEGIN:VCALENDAR
VERSION:2.0
PRODID:-//Tukios.com/
BEGIN:VEVENT
UID:6cbcca4b-bb13-4c09-90e8-43e6d0e2a09a@www.joyners.net
DTSTAMP:20260420T180431Z
DTSTART:20260423T150000Z
DTEND:20260423T160000Z
SUMMARY:Funeral Service
DESCRIPTION:
URL:https://www.joyners.net/obituaries/dorothy-dottie-andersen
LOCATION:Grace Baptist Church 202 Kincaid Avenue North  Wilson NC 27893
GEO:35.7426232;-77.919736
END:VEVENT
END:VCALENDAR