BEGIN:VCALENDAR
VERSION:2.0
PRODID:-//Tukios.com/
BEGIN:VEVENT
UID:b9e0f0e9-f22c-4f47-916f-393da92edff7@www.joyners.net
DTSTAMP:20260420T180006Z
DTSTART:20260423T160000Z
DTEND:20260423T170000Z
SUMMARY:Interment
DESCRIPTION:
URL:https://www.joyners.net/obituaries/dorothy-dottie-andersen
LOCATION:Rocky Mount Memorial Park 4454 Dortches Boulevard  Rocky Mount 
	NC 27804
GEO:36.0064374;-77.8506471
END:VEVENT
END:VCALENDAR