BEGIN:VCALENDAR
VERSION:2.0
PRODID:-//Tukios.com/
BEGIN:VEVENT
UID:bcfbc875-5038-45d7-9916-23b4c9c69126@www.joyners.net
DTSTAMP:20260420T224253Z
DTSTART:20260423T170000Z
DTEND:20260423T173000Z
SUMMARY:Funeral Service
DESCRIPTION:
URL:https://www.joyners.net/obituaries/marie-lamm
LOCATION: 4100 Raleigh Road Parkway W  Wilson NC 27896
GEO:35.7530636;-77.9711344
END:VEVENT
END:VCALENDAR