BEGIN:VCALENDAR
VERSION:2.0
PRODID:-//Tukios.com/
BEGIN:VEVENT
UID:698bb71c-daaf-48b8-ae6a-5794f2aecc46@www.joyners.net
DTSTAMP:20260420T224146Z
DTSTART:20260423T174500Z
DTEND:20260423T200000Z
SUMMARY:Visitation
DESCRIPTION:
URL:https://www.joyners.net/obituaries/marie-lamm
LOCATION: 4100 Raleigh Road Parkway West  Wilson NC 27896
GEO:35.7530636;-77.9711344
END:VEVENT
END:VCALENDAR