BEGIN:VCALENDAR
VERSION:2.0
PRODID:-//Tukios.com/
BEGIN:VEVENT
UID:c1d6e134-0a97-4dd0-88e9-27f1c76ebcc7@www.joyners.net
DTSTAMP:20260421T213959Z
DTSTART:20260424T143000Z
DTEND:20260424T151500Z
SUMMARY:Visitation
DESCRIPTION:
URL:https://www.joyners.net/obituaries/marie-skinner
LOCATION:Joyner’s Funeral Home 4100 Raleigh Road Parkway W  Wilson NC 
	27896
GEO:35.7530636;-77.9711344
END:VEVENT
END:VCALENDAR