BEGIN:VCALENDAR
VERSION:2.0
PRODID:-//Tukios.com/
BEGIN:VEVENT
UID:50c21b0f-33e0-4dcc-911e-9c4d39617fe7@www.joyners.net
DTSTAMP:20260421T214329Z
DTSTART:20260424T161500Z
DTEND:20260424T171500Z
SUMMARY:Interment
DESCRIPTION:
URL:https://www.joyners.net/obituaries/marie-skinner
LOCATION: 2800 Nash St N  Wilson NC 27896
GEO:35.7643598;-77.9313494
END:VEVENT
END:VCALENDAR