BEGIN:VCALENDAR
VERSION:2.0
PRODID:-//Tukios.com/
BEGIN:VEVENT
UID:8edbd961-1c79-4495-8c73-084525276654@www.joyners.net
DTSTAMP:20260420T183705Z
DTSTART:20260425T150000Z
DTEND:20260425T160000Z
SUMMARY:Graveside Service
DESCRIPTION:
URL:https://www.joyners.net/obituaries/mary-jo-pittman
LOCATION:Maplewood Cemetery 400 College St NE  Wilson NC 27893
GEO:35.7336219;-77.9075389
END:VEVENT
END:VCALENDAR