BEGIN:VCALENDAR
VERSION:2.0
PRODID:-//Tukios.com/
BEGIN:VEVENT
UID:94f197d5-e49c-4106-9344-be7d372b1d4d@www.joyners.net
DTSTAMP:20260420T184001Z
DTSTART:20260424T230000Z
DTEND:20260425T003000Z
SUMMARY:Visitation
DESCRIPTION:
URL:https://www.joyners.net/obituaries/mary-jo-pittman
LOCATION:Joyner’s Funeral Home 4100 Raleigh Road Parkway W  Wilson NC 
	27896
GEO:35.7530636;-77.9711344
END:VEVENT
END:VCALENDAR