BEGIN:VCALENDAR
VERSION:2.0
PRODID:-//Tukios.com/
BEGIN:VEVENT
UID:017b8902-c100-4a64-8540-da4c4cc61a72@www.joyners.net
DTSTAMP:20260422T165128Z
DTSTART:20260424T153000Z
DTEND:20260424T163000Z
SUMMARY:Funeral Service
DESCRIPTION:
URL:https://www.joyners.net/obituaries/millie-skinner
LOCATION:Joyner’s Funeral Home 4100 Raleigh Road Parkway W  Wilson NC 
	27896
GEO:35.7530636;-77.9711344
END:VEVENT
END:VCALENDAR