BEGIN:VCALENDAR
VERSION:2.0
PRODID:-//Tukios.com/
BEGIN:VEVENT
UID:43605824-a9d7-4cf9-a74a-cf371f5857c9@www.joyners.net
DTSTAMP:20260425T225807Z
DTSTART:20260501T140000Z
DTEND:20260501T150000Z
SUMMARY:Memorial Service
DESCRIPTION:
URL:https://www.joyners.net/obituaries/tyre-cale
LOCATION:Our Redeemer Lutheran Church 612 Vance Street Northeast  Wilson 
	NC 27893
GEO:35.7343364;-77.9150789
END:VEVENT
END:VCALENDAR